BEGIN:VCALENDAR
PRODID:-//github.com/rianjs/ical.net//NONSGML ical.net 4.0//EN
VERSION:2.0
BEGIN:VEVENT
DTSTAMP:20260421T194630Z
DTSTART;VALUE=DATE:20250527
SEQUENCE:0
SUMMARY:HIWIN-股東常會
UID:6ea0b1b6-b2ce-40d3-b8d8-d7931e2638e2
END:VEVENT
END:VCALENDAR
