BEGIN:VCALENDAR
PRODID:-//github.com/rianjs/ical.net//NONSGML ical.net 4.0//EN
VERSION:2.0
BEGIN:VEVENT
DTSTAMP:20260421T194609Z
DTSTART;VALUE=DATE:20240530
SEQUENCE:0
SUMMARY:HIWIN-股東常會
UID:2a211a34-2b1a-4910-9d89-cacd73dda487
END:VEVENT
END:VCALENDAR
