BEGIN:VCALENDAR
PRODID:-//github.com/rianjs/ical.net//NONSGML ical.net 4.0//EN
VERSION:2.0
BEGIN:VEVENT
DESCRIPTION:
DTSTAMP:20260421T194609Z
DTSTART;VALUE=DATE:20251113
LOCATION:Website：http://www.zucast.com/webcast/6TrvFTGX
SEQUENCE:0
SUMMARY:HIWIN-2025 Q3 Investor Conference
UID:b2754ef2-b967-4e16-98ad-71fcc7f0647e
END:VEVENT
END:VCALENDAR
