BEGIN:VCALENDAR
PRODID:-//github.com/rianjs/ical.net//NONSGML ical.net 4.0//EN
VERSION:2.0
BEGIN:VEVENT
DESCRIPTION:
DTSTAMP:20260421T194804Z
DTSTART;VALUE=DATE:20250509
LOCATION:Website：http://www.zucast.com/webcast/jqH2YI2a
SEQUENCE:0
SUMMARY:HIWIN-2025 Q1 Investor Conference
UID:7ce57c19-bd0a-472e-bcaa-59b3d9146188
END:VEVENT
END:VCALENDAR
